Workbook

Sheet COSTO APRÓX.
A1: Copyright © Heb MERMA - Todos los derechos reservados
B4: ZONA | E4: LIMA - CALLAO | F4: =IF(E4="SELVA",1,2) -> 2
B6: ESTRUCTURAS | E6: CATEGORIA | F6: m2
A7: =IFERROR(VLOOKUP(E7,CVU!$E$187:$G$196,3,FALSE),"") | B7: muros y columnas | F7: =IFERROR(IF(A1="Copyright © Heb MERMA - Todos los derechos reservados",IF($E$18>4,(IF($E$4="sierra",VLOOKUP(A7,CVU!$B$7:$I$25,MATCH('COSTO APRÓX.'!B7,CVU!$B$7:$I$7,0),FALSE),IF($E$4="selva",VLOOKUP(A7,CVU!$B$29:$I$49,MATCH('COSTO APRÓX.'!B7,CVU!$B$29:$I$29,0),FALSE),IF($E$4="costa",VLOOKUP(A7,CVU!$B$54:$I$72,MATCH('COSTO APRÓX.'!B7,CVU!$B$54:$I$54,0),FALSE),IF($E$4="lima - callao",VLOOKUP(A7,CVU!$B$77:$I$95,MATCH('COSTO APRÓX.'!B7,CVU!$B$77:$I$77,0),FALSE))))))+AB7,AA7),F10+F15+F8),0) -> 0 | G7: =IFERROR("*"&IF($E$4="sierra",VLOOKUP(E7,CVU!$B$7:$I$25,MATCH('COSTO APRÓX.'!B7,CVU!$B$7:$I$7,0),FALSE),IF($E$4="selva",VLOOKUP(E7,CVU!$B$29:$I$49,MATCH('COSTO APRÓX.'!B7,CVU!$B$29:$I$29,0),FALSE),IF($E$4="costa",VLOOKUP(E7,CVU!$B$54:$I$72,MATCH('COSTO APRÓX.'!B7,CVU!$B$54:$I$54,0),FALSE),IF($E$4="lima - callao",VLOOKUP(E7,CVU!$B$77:$I$95,MATCH('COSTO APRÓX.'!B7,CVU!$B$77:$I$77,0),FALSE))))),"") | AA7: =IFERROR(IF($E$4="sierra",VLOOKUP(A7,CVU!$B$7:$I$25,MATCH('COSTO APRÓX.'!B7,CVU!$B$7:$I$7,0),FALSE),IF($E$4="selva",VLOOKUP(A7,CVU!$B$29:$I$49,MATCH('COSTO APRÓX.'!B7,CVU!$B$29:$I$29,0),FALSE),IF($E$4="costa",VLOOKUP(A7,CVU!$B$54:$I$72,MATCH('COSTO APRÓX.'!B7,CVU!$B$54:$I$54,0),FALSE),IF($E$4="lima - callao",VLOOKUP(A7,CVU!$B$77:$I$95,MATCH('COSTO APRÓX.'!B7,CVU!$B$77:$I$77,0),FALSE))))),0) -> 0 | AB7: =AA7*5% -> 0
A8: =IFERROR(VLOOKUP(E8,CVU!$E$187:$G$196,3,FALSE),"") | B8: techos | F8: =IFERROR(IF($E$18>4,(IF($E$4="sierra",VLOOKUP(A8,CVU!$B$7:$I$25,MATCH('COSTO APRÓX.'!B8,CVU!$B$7:$I$7,0),FALSE),IF($E$4="selva",VLOOKUP(A8,CVU!$B$29:$I$49,MATCH('COSTO APRÓX.'!B8,CVU!$B$29:$I$29,0),FALSE),IF($E$4="costa",VLOOKUP(A8,CVU!$B$54:$I$72,MATCH('COSTO APRÓX.'!B8,CVU!$B$54:$I$54,0),FALSE),IF($E$4="lima - callao",VLOOKUP(A8,CVU!$B$77:$I$95,MATCH('COSTO APRÓX.'!B8,CVU!$B$77:$I$77,0),FALSE))))))+AB8,AA8),0) -> 0 | G8: =IFERROR("*"&IF($E$4="sierra",VLOOKUP(E8,CVU!$B$7:$I$25,MATCH('COSTO APRÓX.'!B8,CVU!$B$7:$I$7,0),FALSE),IF($E$4="selva",VLOOKUP(E8,CVU!$B$29:$I$49,MATCH('COSTO APRÓX.'!B8,CVU!$B$29:$I$29,0),FALSE),IF($E$4="costa",VLOOKUP(E8,CVU!$B$54:$I$72,MATCH('COSTO APRÓX.'!B8,CVU!$B$54:$I$54,0),FALSE),IF($E$4="lima - callao",VLOOKUP(E8,CVU!$B$77:$I$95,MATCH('COSTO APRÓX.'!B8,CVU!$B$77:$I$77,0),FALSE))))),"") | AA8: =IFERROR(IF($E$4="sierra",VLOOKUP(A8,CVU!$B$7:$I$25,MATCH('COSTO APRÓX.'!B8,CVU!$B$7:$I$7,0),FALSE),IF($E$4="selva",VLOOKUP(A8,CVU!$B$29:$I$49,MATCH('COSTO APRÓX.'!B8,CVU!$B$29:$I$29,0),FALSE),IF($E$4="costa",VLOOKUP(A8,CVU!$B$54:$I$72,MATCH('COSTO APRÓX.'!B8,CVU!$B$54:$I$54,0),FALSE),IF($E$4="lima - callao",VLOOKUP(A8,CVU!$B$77:$I$95,MATCH('COSTO APRÓX.'!B8,CVU!$B$77:$I$77,0),FALSE))))),0) -> 0 | AB8: =AA8*5% -> 0
B9: ACABADOS | E9: CATEGORIA | F9: m2
A10: =IFERROR(VLOOKUP(E10,CVU!$E$187:$G$196,3,FALSE),"") | B10: pisos | F10: =IFERROR(IF($E$18>4,(IF($E$4="sierra",VLOOKUP(A10,CVU!$B$7:$I$25,MATCH('COSTO APRÓX.'!B10,CVU!$B$7:$I$7,0),FALSE),IF($E$4="selva",VLOOKUP(A10,CVU!$B$29:$I$49,MATCH('COSTO APRÓX.'!B10,CVU!$B$29:$I$29,0),FALSE),IF($E$4="costa",VLOOKUP(A10,CVU!$B$54:$I$72,MATCH('COSTO APRÓX.'!B10,CVU!$B$54:$I$54,0),FALSE),IF($E$4="lima - callao",VLOOKUP(A10,CVU!$B$77:$I$95,MATCH('COSTO APRÓX.'!B10,CVU!$B$77:$I$77,0),FALSE))))))+AB10,AA10),0) -> 0 | G10: =IFERROR("*"&IF($E$4="sierra",VLOOKUP(E10,CVU!$B$7:$I$25,MATCH('COSTO APRÓX.'!B10,CVU!$B$7:$I$7,0),FALSE),IF($E$4="selva",VLOOKUP(E10,CVU!$B$29:$I$49,MATCH('COSTO APRÓX.'!B10,CVU!$B$29:$I$29,0),FALSE),IF($E$4="costa",VLOOKUP(E10,CVU!$B$54:$I$72,MATCH('COSTO APRÓX.'!B10,CVU!$B$54:$I$54,0),FALSE),IF($E$4="lima - callao",VLOOKUP(E10,CVU!$B$77:$I$95,MATCH('COSTO APRÓX.'!B10,CVU!$B$77:$I$77,0),FALSE))))),"") | AA10: =IFERROR(IF($E$4="sierra",VLOOKUP(A10,CVU!$B$7:$I$25,MATCH('COSTO APRÓX.'!B10,CVU!$B$7:$I$7,0),FALSE),IF($E$4="selva",VLOOKUP(A10,CVU!$B$29:$I$49,MATCH('COSTO APRÓX.'!B10,CVU!$B$29:$I$29,0),FALSE),IF($E$4="costa",VLOOKUP(A10,CVU!$B$54:$I$72,MATCH('COSTO APRÓX.'!B10,CVU!$B$54:$I$54,0),FALSE),IF($E$4="lima - callao",VLOOKUP(A10,CVU!$B$77:$I$95,MATCH('COSTO APRÓX.'!B10,CVU!$B$77:$I$77,0),FALSE))))),0) -> 0 | AB10: =AA10*5% -> 0
A11: =IFERROR(VLOOKUP(E11,CVU!$E$187:$G$196,3,FALSE),"") | B11: puertas y ventanas | F11: =IFERROR(IF($E$18>4,(IF($E$4="sierra",VLOOKUP(A11,CVU!$B$7:$I$25,MATCH('COSTO APRÓX.'!B11,CVU!$B$7:$I$7,0),FALSE),IF($E$4="selva",VLOOKUP(A11,CVU!$B$29:$I$49,MATCH('COSTO APRÓX.'!B11,CVU!$B$29:$I$29,0),FALSE),IF($E$4="costa",VLOOKUP(A11,CVU!$B$54:$I$72,MATCH('COSTO APRÓX.'!B11,CVU!$B$54:$I$54,0),FALSE),IF($E$4="lima - callao",VLOOKUP(A11,CVU!$B$77:$I$95,MATCH('COSTO APRÓX.'!B11,CVU!$B$77:$I$77,0),FALSE))))))+AB11,AA11),0) -> 0 | G11: =IFERROR("*"&IF($E$4="sierra",VLOOKUP(E11,CVU!$B$7:$I$25,MATCH('COSTO APRÓX.'!B11,CVU!$B$7:$I$7,0),FALSE),IF($E$4="selva",VLOOKUP(E11,CVU!$B$29:$I$49,MATCH('COSTO APRÓX.'!B11,CVU!$B$29:$I$29,0),FALSE),IF($E$4="costa",VLOOKUP(E11,CVU!$B$54:$I$72,MATCH('COSTO APRÓX.'!B11,CVU!$B$54:$I$54,0),FALSE),IF($E$4="lima - callao",VLOOKUP(E11,CVU!$B$77:$I$95,MATCH('COSTO APRÓX.'!B11,CVU!$B$77:$I$77,0),FALSE))))),"") | AA11: =IFERROR(IF($E$4="sierra",VLOOKUP(A11,CVU!$B$7:$I$25,MATCH('COSTO APRÓX.'!B11,CVU!$B$7:$I$7,0),FALSE),IF($E$4="selva",VLOOKUP(A11,CVU!$B$29:$I$49,MATCH('COSTO APRÓX.'!B11,CVU!$B$29:$I$29,0),FALSE),IF($E$4="costa",VLOOKUP(A11,CVU!$B$54:$I$72,MATCH('COSTO APRÓX.'!B11,CVU!$B$54:$I$54,0),FALSE),IF($E$4="lima - callao",VLOOKUP(A11,CVU!$B$77:$I$95,MATCH('COSTO APRÓX.'!B11,CVU!$B$77:$I$77,0),FALSE))))),0) -> 0 | AB11: =AA11*5% -> 0
A12: =IFERROR(VLOOKUP(E12,CVU!$E$187:$G$196,3,FALSE),"") | B12: revestimientos | F12: =IFERROR(IF($E$18>4,(IF($E$4="sierra",VLOOKUP(A12,CVU!$B$7:$I$25,MATCH('COSTO APRÓX.'!B12,CVU!$B$7:$I$7,0),FALSE),IF($E$4="selva",VLOOKUP(A12,CVU!$B$29:$I$49,MATCH('COSTO APRÓX.'!B12,CVU!$B$29:$I$29,0),FALSE),IF($E$4="costa",VLOOKUP(A12,CVU!$B$54:$I$72,MATCH('COSTO APRÓX.'!B12,CVU!$B$54:$I$54,0),FALSE),IF($E$4="lima - callao",VLOOKUP(A12,CVU!$B$77:$I$95,MATCH('COSTO APRÓX.'!B12,CVU!$B$77:$I$77,0),FALSE))))))+AB12,AA12),0) -> 0 | G12: =IFERROR("*"&IF($E$4="sierra",VLOOKUP(E12,CVU!$B$7:$I$25,MATCH('COSTO APRÓX.'!B12,CVU!$B$7:$I$7,0),FALSE),IF($E$4="selva",VLOOKUP(E12,CVU!$B$29:$I$49,MATCH('COSTO APRÓX.'!B12,CVU!$B$29:$I$29,0),FALSE),IF($E$4="costa",VLOOKUP(E12,CVU!$B$54:$I$72,MATCH('COSTO APRÓX.'!B12,CVU!$B$54:$I$54,0),FALSE),IF($E$4="lima - callao",VLOOKUP(E12,CVU!$B$77:$I$95,MATCH('COSTO APRÓX.'!B12,CVU!$B$77:$I$77,0),FALSE))))),"") | AA12: =IFERROR(IF($E$4="sierra",VLOOKUP(A12,CVU!$B$7:$I$25,MATCH('COSTO APRÓX.'!B12,CVU!$B$7:$I$7,0),FALSE),IF($E$4="selva",VLOOKUP(A12,CVU!$B$29:$I$49,MATCH('COSTO APRÓX.'!B12,CVU!$B$29:$I$29,0),FALSE),IF($E$4="costa",VLOOKUP(A12,CVU!$B$54:$I$72,MATCH('COSTO APRÓX.'!B12,CVU!$B$54:$I$54,0),FALSE),IF($E$4="lima - callao",VLOOKUP(A12,CVU!$B$77:$I$95,MATCH('COSTO APRÓX.'!B12,CVU!$B$77:$I$77,0),FALSE))))),0) -> 0 | AB12: =AA12*5% -> 0
A13: =IFERROR(VLOOKUP(E13,CVU!$E$187:$G$196,3,FALSE),"") | B13: baños | F13: =IFERROR(IF($E$18>4,(IF($E$4="sierra",VLOOKUP(A13,CVU!$B$7:$I$25,MATCH('COSTO APRÓX.'!B13,CVU!$B$7:$I$7,0),FALSE),IF($E$4="selva",VLOOKUP(A13,CVU!$B$29:$I$49,MATCH('COSTO APRÓX.'!B13,CVU!$B$29:$I$29,0),FALSE),IF($E$4="costa",VLOOKUP(A13,CVU!$B$54:$I$72,MATCH('COSTO APRÓX.'!B13,CVU!$B$54:$I$54,0),FALSE),IF($E$4="lima - callao",VLOOKUP(A13,CVU!$B$77:$I$95,MATCH('COSTO APRÓX.'!B13,CVU!$B$77:$I$77,0),FALSE))))))+AB13,AA13),0) -> 0 | G13: =IFERROR("*"&IF($E$4="sierra",VLOOKUP(E13,CVU!$B$7:$I$25,MATCH('COSTO APRÓX.'!B13,CVU!$B$7:$I$7,0),FALSE),IF($E$4="selva",VLOOKUP(E13,CVU!$B$29:$I$49,MATCH('COSTO APRÓX.'!B13,CVU!$B$29:$I$29,0),FALSE),IF($E$4="costa",VLOOKUP(E13,CVU!$B$54:$I$72,MATCH('COSTO APRÓX.'!B13,CVU!$B$54:$I$54,0),FALSE),IF($E$4="lima - callao",VLOOKUP(E13,CVU!$B$77:$I$95,MATCH('COSTO APRÓX.'!B13,CVU!$B$77:$I$77,0),FALSE))))),"") | AA13: =IFERROR(IF($E$4="sierra",VLOOKUP(A13,CVU!$B$7:$I$25,MATCH('COSTO APRÓX.'!B13,CVU!$B$7:$I$7,0),FALSE),IF($E$4="selva",VLOOKUP(A13,CVU!$B$29:$I$49,MATCH('COSTO APRÓX.'!B13,CVU!$B$29:$I$29,0),FALSE),IF($E$4="costa",VLOOKUP(A13,CVU!$B$54:$I$72,MATCH('COSTO APRÓX.'!B13,CVU!$B$54:$I$54,0),FALSE),IF($E$4="lima - callao",VLOOKUP(A13,CVU!$B$77:$I$95,MATCH('COSTO APRÓX.'!B13,CVU!$B$77:$I$77,0),FALSE))))),0) -> 0 | AB13: =AA13*5% -> 0
B14: INSTALACIONES | E14: CATEGORIA | F14: m2
A15: =IFERROR(VLOOKUP(E15,CVU!$E$187:$G$196,3,FALSE),"") | B15: eléctricas y sanitarias | F15: =IFERROR(IF($E$18>4,(IF($E$4="sierra",VLOOKUP(A15,CVU!$B$7:$I$25,MATCH('COSTO APRÓX.'!B15,CVU!$B$7:$I$7,0),FALSE),IF($E$4="selva",VLOOKUP(A15,CVU!$B$29:$I$49,MATCH('COSTO APRÓX.'!B15,CVU!$B$29:$I$29,0),FALSE),IF($E$4="costa",VLOOKUP(A15,CVU!$B$54:$I$72,MATCH('COSTO APRÓX.'!B15,CVU!$B$54:$I$54,0),FALSE),IF($E$4="lima - callao",VLOOKUP(A15,CVU!$B$77:$I$95,MATCH('COSTO APRÓX.'!B15,CVU!$B$77:$I$77,0),FALSE))))))+AB15,AA15),0) -> 0 | G15: =IFERROR("*"&IF($E$4="sierra",VLOOKUP(E15,CVU!$B$7:$I$25,MATCH('COSTO APRÓX.'!B15,CVU!$B$7:$I$7,0),FALSE),IF($E$4="selva",VLOOKUP(E15,CVU!$B$29:$I$49,MATCH('COSTO APRÓX.'!B15,CVU!$B$29:$I$29,0),FALSE),IF($E$4="costa",VLOOKUP(E15,CVU!$B$54:$I$72,MATCH('COSTO APRÓX.'!B15,CVU!$B$54:$I$54,0),FALSE),IF($E$4="lima - callao",VLOOKUP(E15,CVU!$B$77:$I$95,MATCH('COSTO APRÓX.'!B15,CVU!$B$77:$I$77,0),FALSE))))),"") | AA15: =IFERROR(IF($E$4="sierra",VLOOKUP(A15,CVU!$B$7:$I$25,MATCH('COSTO APRÓX.'!B15,CVU!$B$7:$I$7,0),FALSE),IF($E$4="selva",VLOOKUP(A15,CVU!$B$29:$I$49,MATCH('COSTO APRÓX.'!B15,CVU!$B$29:$I$29,0),FALSE),IF($E$4="costa",VLOOKUP(A15,CVU!$B$54:$I$72,MATCH('COSTO APRÓX.'!B15,CVU!$B$54:$I$54,0),FALSE),IF($E$4="lima - callao",VLOOKUP(A15,CVU!$B$77:$I$95,MATCH('COSTO APRÓX.'!B15,CVU!$B$77:$I$77,0),FALSE))))),0) -> 0 | AB15: =AA15*5% -> 0
F16: =SUM(F7:F15) -> 0 | G16: soles/m2
B18: N PISOS
B19: ÁREA DE TERRENO | F19: m2
B20: ÁREA LIBRE 30% | E20: =E19*30% -> 0 | F20: m2
B21: ÁREA TECHADO | E21: =+(E19-E20)*E18 -> 0 | F21: m2
B23: COSTO APROX. | E23: =IFERROR(E21*F16,0) -> 0
B24: COSTO MÍNIMO -25% | E24: =E23+E23*F24 -> 0 | F24: -0.25
B25: COSTO MÁXIMO +75% | E25: =E23+E23*F25 -> 0 | F25: 0.75

Sheet CVU
A1: Copyright © Heb MERMA - Todos los derechos reservados
B3: NOTA: | C3: Actualizar los costos cada mes a travez del siguiente link: | F3: https://cap.org.pe/valores-unitarios-oficiales-de-edificaciones/
B5: VALORES POR PARTIDAS EN SOLES POR METRO CUADRADO DE ÁREA TECHADA - SIERRA
B6: 1 | C6: ESTRUCTURAS | E6: ACABADOS | I6: INSTALACIONES
B7: CATEGORIA | C7: MUROS Y COLUMNAS | D7: TECHOS | E7: PISOS | F7: PUERTAS Y VENTANAS | G7: REVESTIMIENTOS | H7: BAÑOS | I7: ELÉCTRICAS Y SANITARIAS
B8: A | C8: ESTRUCTURAS LAMINARES CURVADAS DE CONCRETO ARMADO QUE INCLUYEN EN UNA SOLA ARMADURA LA CIMENTACIÓN Y EL TECHO, PARA ESTE CASO NO SE CONSIDERA LOS VALORES DE LA COLUMNA N°2. | D8: LOSA ALIGERADO DE CONCRETO ARMADO CON LUCES LIBRES MAYORES A 6m. MEDIDA ENTRE CARA DE LOS APOYOS Y SOBRECARGAMAYOR A 300kg/M2. (8) | E8: MÁRMOL IMPORTADO, PIEDRAS NATURALES IMPORTADAS, PORCELANATO. | F8: ALUMINIO PESADO CON PERFILES ESPECIALES, MADERA FINA ORNAMENTAL (CAOBA, CEDRO O PINO SELECTO) VIDRIO INSULADO. (1) | G8: MÁRMOL IMPORTADO, MADERA FINA (CAOBA O SIMILAR) BALDOSA ACÚSTICA EN TECHO O SIMILAR. | H8: BAÑOS COMPLETOS (7) DE LUJO IMPORTADO CON ANCHAPE FINO (MÁRMOL O SIMILAR). | I8: AIRE ACONDICIONADO, ILUMINACIÓN ESPECIAL, VENTILACIÓN FORZADA, SIST. HIDRONEUMÁTICO, AGUA CALIENTE Y FRÍA, INTERCOMUNICADOR, ALARMAS, ASCENSOR, SISTEMA BOMBEO DE AGUA Y DESAGUE (5), TELÉFONO.
B9: costo (A) | C9: 749.53 | D9: 389.73 | E9: 276.53 | F9: 295.82 | G9: 373.29 | H9: 132.4 | I9: 471.78
B10: B | C10: COLUMNAS, VIGAS Y/O PLACAS DE CONCRETO ARMADO Y/O METÁLICAS | D10: ALIGERADOS O LOSAS DE CONCRETO ARMADO INCLINADAS | E10: MÁMOL NACIONAL O RECONSTITUIDO, PARQUET FINO (OLIVO, CHONTA O SIMILAR), CERÁMICA IMPORTADA, MADERA FINA. | F10: ALUMINIO O MADERA FINA (CAOBA O SIMILAR) DE DISEÑO ESPECIAL, VIDRIO TRATADO POLARIZADO (2) Y CURVADO, LAMINADO O TEMPLADO. | G10: MÁRMOL NACIONAL, MADERA FINA (CAOBA O SIMILAR) ENCHAPES EN TECHOS | H10: BAÑOS COMPLETOS (7) IMPORTADOS CON MAYÓLICA O CERÁMICO DECORATIVO IMPORTADO. | I10: SISTEMA DE BOMBEO DE AGUA POTABLE, ASCENSOR, TELÉFONO, AGUA CALIENTE Y FRÍA.
B11: costo (B) | C11: 445.92 | D11: 267.95 | E11: 230.59 | F11: 261.78 | G11: 298.15 | H11: 94.57 | I11: 277.49
B12: C | C12: PLACAS DE CONCRETO (E= 10 A 15 cm), ALBAÑILERÍA ARMADA, LADRILLO O SIMILAR CON COLUMNAS Y VIGAS DE AMARRE DE CONCRETO ARMADO. | D12: ALIGERADO O LOSAS DE CONCRETO ARMADO HORIZONTALES. | E12: MADERA FINA MACHIHEMBRADA, TERRAZO. | F12: ALUMINIO O MADERA FINA (CAOBA O SIMILAR), VIDRIO TRATADO POLARIZADO (2), LAMINADO O TEMPLADO. | G12: SUPERFICIE CARAVISTA OBTENIDA MEDIANTE ENCOFRADO ESPECIAL, ENCHAPE EN TECHOS. | H12: BAÑOS COMPLETOS (7) NACIONALES CON MAYÓLICA O CERÁMICO NACIONAL DE COLOR. | I12: SISTEMA DE BOMBEO DE AGUA POTABLE, TELÉFONO, AGUA CALIENTE Y FRÍA.
B13: costo (C) | C13: 323.53 | D13: 187.5 | E13: 149.22 | F13: 191 | G13: 246.76 | H13: 61.75 | I13: 206.48
B14: D | C14: LADRILLO O SIMILAR SIN ELEMENTOS DE CONCRETO ARMADO, DRYWALL O SIMILAR ICLUYE TECHO (6) | D14: CALAMINA METÁLICA, FIBROCEMENTO SOBRE VIGUERÍA METÁLICA. BAMBÚ | E14: PARQUET DE 1ra. LAJAS, CERÁMICA NACIONAL, LOSETA VENECIANA 40x40, PISO LAMINADO. | F14: VENTANAS DE ALUMINIO PUERTAS DE MADERA SELECTA, VIDRIO TRATADO TRANSPARENTE. (3) | G14: ENCHAPE DE MADERA O LAMINADOS. PIEDRA O MATERIAL VITRIFICADO. | H14: BAÑOS COMPLETOS (7) NACIONALES BLANCOS CON MAYÓLICA BLANCA. | I14: AGUA FRÍA. AGUA CALIENTE, CORRIENTE TRIFÁSICA, TELÉFONO.
B15: costo (D) | C15: 298.83 | D15: 141.9 | E15: 122.35 | F15: 112.03 | G15: 188.75 | H15: 37.78 | I15: 117
B16: E | C16: ADOBE, TAPIAL O QUINCHA, BAMBÚ ESTRUCTURAL | D16: MADERA CON MATERIAL IMPERMEABILIZANTE POLICARBONATO. | E16: PARQUET DE 2da. LOSETA VENECIANA 30x30 LAJAS DE CEMENTO CON CANTO RODADO. | F16: VENTANAS DE FIERRO, PUERTAS DE MADERA SELECTA (CAOBA O SIMILAR), VIDRIO SIMPLE TRANSPARENTE. | G16: SUPERFICIE DE LADRILLO CARAVISTA. | H16: BAÑOS CON MAYÓLICA BLANCA. PARCIAL | I16: AGUA FRÍA. AGUA CALIENTE, CORRIENTE MONOIFÁSICA, TELÉFONO.
B17: costo (E) | C17: 234.59 | D17: 58.27 | E17: 101.19 | F17: 85.57 | G17: 157.03 | H17: 18.52 | I17: 65.11
B18: F | C18: MADERA (ESTORAQUE, PUMAQUIRO, HUAYRURO, MACHINGA, CATAHUA AMARILLA, COPAIBA, DIABLO FUERTE, TORNILLO O SIMILARES) DRYWALL O SIMILAR (SIN TECHO). | D18: CALAMINA METÁLICA, FIBROCEMENTO O TEJA SOBRE VIGUERÍA DE MADERA CORRIENTE. | E18: LOSETA CORRIENTE, CANTO RODADO. ALFOMBRA | F18: VENTANAS DE FIERRO O ALUMINIO INDUSTRIAL, PUERTAS CONTRAPLACADAS DE MADERA (CEDRO O SIMILAR), PUERTAS MATERIAL MDF o HDF, VIDRIO SIMPLE TRANSPARENTE (4). | G18: TARRAJEO FROTACHADO Y/O YESO MOLDURADO. PINTURA LAVABLE. | H18: BAÑOS BLANCOS SIN MAYÓLICAS. | I18: AGUA FRÍA, CORRIENTE MONOFÁSICA, TELÉFONO.
B19: costo (F) | C19: 146.29 | D19: 46.56 | E19: 82.64 | F19: 66.18 | G19: 93.63 | H19: 15.74 | I19: 42.32
B20: G | C20: PIRCADO CON MEZCLA DE BARRO | D20: SIN TECHO | E20: LOSETA VINÍLICA, CEMENTO BRUÑADO COLOREADO, TAPIZÓN | F20: MADERA CORRIENTE CON MARCOS EN PUERTAS Y VENTANAS DE PVC O MADERA CORRIENTE. | G20: ESTUCADO DE YESO Y/O BARRO, PINTURA AL TEMPLE O AL AGUA. | H20: SANITARIOS BÁSICOS DE LOSA DE 2da. FIERRO FUNDIDO O GRANITO. | I20: AGUA FRÍA, CORRIENTE MONOFÁSICA SIN EMPOTRAR.
B21: costo (G) | C21: 0 | D21: 0 | E21: 61.81 | F21: 38.98 | G21: 69.56 | H21: 10.82 | I21: 24.93
B22: H | E22: CEMENTO PULIDO, LADRILLO CORRIENTE, ENTABLADO CORRIENTE. | F22: MADERA RÚSTICA | G22: PINTADO EN LADRILLO RÚSTICO, PLACA DE CONCRETO O SIMILAR. | H22: SIN APARATOS SANITARIOS | I22: SIN INSTALACIONES ELÉCTRICAS NI SANITARIA
B23: costo (H) | C23: 0 | D23: 0 | E23: 33.39 | F23: 19.5 | G23: 27.83 | H23: 0 | I23: 0
B24: I | E24: TIERRA COMPACTADA | F24: SIN PUERTAS NI VENTANAS | G24: SIN REVESTIMIENTO EN LADRILLO, ADOBE O SIMILAR
B25: costo (I) | C25: 0 | D25: 0 | E25: 7.34 | F25: 0 | G25: 0 | H25: 0 | I25: 0
B27: VALORES POR PARTIDAS EN SOLES POR METRO CUADRADO DE ÁREA TECHADA - SELVA
B28: 2 | C28: ESTRUCTURAS | E28: ACABADOS | I28: INSTALACIONES
B29: CATEGORIA | C29: MUROS Y COLUMNAS | D29: TECHOS | E29: PISOS | F29: PUERTAS Y VENTANAS | G29: REVESTIMIENTOS | H29: BAÑOS | I29: ELÉCTRICAS Y SANITARIAS
B30: A | C30: ESTRUCTURAS LAMINARES CURVADAS DE CONCRETO ARMADO QUE INCLUYEN EN UNA SOLA ARMADURA LA CIMENTACIÓN Y EL TECHO, PARA ESTE CASO NO SE CONSIDERA LOS VALORES DE LA COLUMNA N°2. | D30: LOSA ALIGERADO DE CONCRETO ARMADO CON LUCES LIBRES MAYORES A 6m. MEDIDA ENTRE CARA DE LOS APOYOS Y SOBRECARGA MAYOR A 300 kg/m2. (9) | E30: MÁRMOL IMPORTADO, PIEDRAS NATURALES IMPORTADAS, PORCELANATO. | F30: ALUMINIO PESADO CON PERFILES ESPECIALES, MADERA FINA ORNAMENTAL (CAOBA, CEDRO O PINO SELECTO) VIDRIO INSULADO. (1) | G30: MÁRMOL IMPORTADO, MADERA FINA (CAOBA O SIMILAR) BALDOSA ACÚSTICA EN TECHO O SIMILAR. | H30: BAÑOS COMPLETOS (8) DE LUJO IMPORTADO CON ANCHAPE FINO (MÁRMOL O SIMILAR). | I30: AIRE ACONDICIONADO, ILUMINACIÓN ESPECIAL, VENTILACIÓN FORZADA, SIST. HIDRONEUMÁTICO, AGUA CALIENTE Y FRÍA, INTERCOMUNICADOR, ALARMAS, ASCENSOR, SISTEMA BOMBEO DE AGUA Y DESAGUE (5), TELÉFONO.
B31: costo (A) | C31: 785.11 | D31: 402.07 | E31: 490.1 | F31: 332.59 | G31: 394.37 | H31: 143.9 | I31: 486.4
B32: B | C32: COLUMNAS, VIGAS Y/O PLACAS DE CONCRETO ARMADO Y/O METÁLICAS | D32: ALIGERADOS O LOSAS DE CONCRETO ARMADO INCLINADAS | E32: MÁMOL NACIONAL O RECONSTITUIDO, PARQUET FINO (OLIVO, CHONTA O SIMILAR), CERÁMICA IMPORTADA, MADERA FINA. | F32: ALUMINIO O MADERA FINA (CAOBA O SIMILAR) DE DISEÑO ESPECIAL, VIDRIO TRATADO POLARIZADO (2) Y CURVADO, LAMINADO O TEMPLADO. | G32: MÁRMOL NACIONAL, MADERA FINA (CAOBA O SIMILAR) ENCHAPES EN TECHOS | H32: BAÑOS COMPLETOS (8) IMPORTADOS CON MAYÓLICA O CERÁMICO DECORATIVO IMPORTADO. | I32: SISTEMA DE BOMBEO DE AGUA POTABLE, ASCENSOR, TELÉFONO, AGUA CALIENTE Y FRÍA.
B33: costo (B) | C33: 535.66 | D33: 284.02 | E33: 234.88 | F33: 263.81 | G33: 271.82 | H33: 102.26 | I33: 291.38
B34: C | C34: PLACAS DE CONCRETO (E= 10 A 15 cm), ALBAÑILERÍA ARMADA, LADRILLO O SIMILAR CON COLUMNAS Y VIGAS DE AMARRE DE CONCRETO ARMADO. | D34: ALIGERADO O LOSAS DE CONCRETO ARMADO HORIZONTALES. | E34: MADERA FINA MACHIHEMBRADA, TERRAZO. | F34: ALUMINIO O MADERA FINA (CAOBA O SIMILAR), VIDRIO TRATADO POLARIZADO (2), LAMINADO O TEMPLADO. | G34: SUPERFICIE CARAVISTA OBTENIDA MEDIANTE ENCOFRADO ESPECIAL, ENCHAPE EN TECHOS. | H34: BAÑOS COMPLETOS (8) NACIONALES CON MAYÓLICA O CERÁMICO NACIONAL DE COLOR. | I34: SISTEMA DE BOMBEO DE AGUA POTABLE, TELÉFONO, AGUA CALIENTE Y FRÍA.
B35: costo (C) | C35: 395.66 | D35: 214.29 | E35: 154.13 | F35: 200.99 | G35: 231.87 | H35: 72.15 | I35: 212.44
B36: D | C36: LADRILLO O SIMILAR, DRYWALL O SIMILAR ICLUYE TECHO (7) | D36: CALAMINA METÁLICA, FIBROCEMENTO SOBRE VIGUERÍA METÁLICA. | E36: PARQUET DE 1ra. LAJAS, CERÁMICA NACIONAL, LOSETA VENECIANA 40x40, PISO LAMINADO. | F36: VENTANAS DE ALUMINIO PUERTAS DE MADERA SELECTA, VIDRIO TRATADO TRANSPARENTE. (3) | G36: ENCHAPE DE MADERA O LAMINADOS. PIEDRA O MATERIAL VITRIFICADO. | H36: BAÑOS COMPLETOS (8) NACIONALES BLANCOS CON MAYÓLICA BLANCA. | I36: AGUA FRÍA. AGUA CALIENTE, CORRIENTE TRIFÁSICA, TELÉFONO.
B37: costo (D) | C37: 305.92 | D37: 186.82 | E37: 130.67 | F37: 134.72 | G37: 167.56 | H37: 48.92 | I37: 118.14
B38: E | C38: MADERA SELECTA TRATADA (6) SOBRE PILOTAJE DE MADERA CON BASE DE CONCRETO CON MUROS DE MADERA CONTRAPLACADA O SIMILAR | D38: MADERA SELECTA TRATADA (6) CON MATERIAL IMPERMEABILIZANTE BAMBÚ | E38: PARQUET DE 2da. LOSETA VENECIANA 30x30 LAJAS DE CEMENTO CON CANTO RODADO. | F38: VENTANAS DE FIERRO, PUERTAS DE MADERA SELECTA (CAOBA O SIMILAR), VIDRIO SIMPLE TRANSPARENTE (4). | G38: SUPERFICIE DE LADRILLO CARAVISTA. | H38: BAÑOS CON MAYÓLICA BLANCA. PARCIAL | I38: AGUA FRÍA. AGUA CALIENTE, CORRIENTE MONOIFÁSICA, TELÉFONO.
B39: costo (E) | C39: 242.91 | D39: 136.03 | E39: 105.43 | F39: 87.48 | G39: 127.04 | H39: 24.28 | I39: 79.88
B40: F | C40: ADOBE O SIMILAR BAMBÚ ESTRUCTURAL | D40: CALAMINA METÁLICA, FIBROCEMENTO O TEJA SOBRE TIJERALES DE MADERA POLICARBONATO. | E40: LOSETA CORRIENTE, CANTO RODADO. ALFOMBRA | F40: VENTANAS DE FIERRO O ALUMINIO INDUSTRIAL, PUERTAS CONTRAPLACADAS DE MADERA (CEDRO O SIMILAR), PUERTAS MATERIAL MDF o HDF, VIDRIO SIMPLE TRANSPARENTE (4). | G40: TARRAJEO FROTACHADO Y/O YESO MOLDURADO. PINTURA LAVABLE O BARNIZADO SOBRE MADERA. | H40: BAÑOS BLANCOS SIN MAYÓLICAS. | I40: AGUA FRÍA, CORRIENTE MONOFÁSICA, TELÉFONO.
B41: costo (F) | C41: 191.55 | D41: 62.55 | E41: 85.85 | F41: 71.35 | G41: 98.22 | H41: 20.64 | I41: 44.11
B42: G | C42: MADERA TRATADA (6) SELECTA CON BASE DE CONCRETO CON MUROS DE MADERA TIPO CONTRAPLACADO O SIMILAR DRYWALLO SIMILAR (SIN TECHO) | D42: TECHOS DE PALMAS (CRISNEJAS) | E42: LOSETA VINÍLICA, CEMENTO BRUÑADO COLOREADO, TAPIZÓN | F42: MADERA CORRIENTE CON MARCOS EN PUERTAS Y VENTANAS DE PVC O MADERA CORRIENTE. | G42: ESTUCADO DE YESO Y/O BARRO, PINTURA AL TEMPLE O AL AGUA. | H42: SANITARIOS BÁSICOS DE LOSA DE 2da. FIERRO FUNDIDO O GRANITO. | I42: AGUA FRÍA, CORRIENTE MONOFÁSICA SIN EMPOTRAR.
B43: costo (G) | C43: 165.92 | D43: 49.21 | E43: 70.98 | F43: 42.1 | G43: 82.09 | H43: 14.21 | I43: 26.03
...
