Workbook

Sheet COSTO APRÓX.
A1: Copyright © Heb MERMA - Todos los derechos reservados
B4: ZONA | E4: LIMA - CALLAO | F4: =IF(E4="SELVA",1,2) -> 2
B6: ESTRUCTURAS | E6: CATEGORIA | F6: m2
A7: =IFERROR(VLOOKUP(E7,CVU!$E$187:$G$196,3,FALSE),"") | B7: muros y columnas | F7: =IFERROR(IF(A1="Copyright © Heb MERMA - Todos los derechos reservados",IF($E$18>4,(IF($E$4="sierra",VLOOKUP(A7,CVU!$B$7:$I$25,MATCH('COSTO APRÓX.'!B7,CVU!$B$7:$I$7,0),FALSE),IF($E$4="selva",VLOOKUP(A7,CVU!$B$29:$I$49,MATCH('COSTO APRÓX.'!B7,CVU!$B$29:$I$29,0),FALSE),IF($E$4="costa",VLOOKUP(A7,CVU!$B$54:$I$72,MATCH('COSTO APRÓX.'!B7,CVU!$B$54:$I$54,0),FALSE),IF($E$4="lima - callao",VLOOKUP(A7,CVU!$B$77:$I$95,MATCH('COSTO APRÓX.'!B7,CVU!$B$77:$I$77,0),FALSE))))))+AB7,AA7),F10+F15+F8),0) -> 0 | G7: =IFERROR("*"&IF($E$4="sierra",VLOOKUP(E7,CVU!$B$7:$I$25,MATCH('COSTO APRÓX.'!B7,CVU!$B$7:$I$7,0),FALSE),IF($E$4="selva",VLOOKUP(E7,CVU!$B$29:$I$49,MATCH('COSTO APRÓX.'!B7,CVU!$B$29:$I$29,0),FALSE),IF($E$4="costa",VLOOKUP(E7,CVU!$B$54:$I$72,MATCH('COSTO APRÓX.'!B7,CVU!$B$54:$I$54,0),FALSE),IF($E$4="lima - callao",VLOOKUP(E7,CVU!$B$77:$I$95,MATCH('COSTO APRÓX.'!B7,CVU!$B$77:$I$77,0),FALSE))))),"") | AA7: =IFERROR(IF($E$4="sierra",VLOOKUP(A7,CVU!$B$7:$I$25,MATCH('COSTO APRÓX.'!B7,CVU!$B$7:$I$7,0),FALSE),IF($E$4="selva",VLOOKUP(A7,CVU!$B$29:$I$49,MATCH('COSTO APRÓX.'!B7,CVU!$B$29:$I$29,0),FALSE),IF($E$4="costa",VLOOKUP(A7,CVU!$B$54:$I$72,MATCH('COSTO APRÓX.'!B7,CVU!$B$54:$I$54,0),FALSE),IF($E$4="lima - callao",VLOOKUP(A7,CVU!$B$77:$I$95,MATCH('COSTO APRÓX.'!B7,CVU!$B$77:$I$77,0),FALSE))))),0) -> 0 | AB7: =AA7*5% -> 0
A8: =IFERROR(VLOOKUP(E8,CVU!$E$187:$G$196,3,FALSE),"") | B8: techos | F8: =IFERROR(IF($E$18>4,(IF($E$4="sierra",VLOOKUP(A8,CVU!$B$7:$I$25,MATCH('COSTO APRÓX.'!B8,CVU!$B$7:$I$7,0),FALSE),IF($E$4="selva",VLOOKUP(A8,CVU!$B$29:$I$49,MATCH('COSTO APRÓX.'!B8,CVU!$B$29:$I$29,0),FALSE),IF($E$4="costa",VLOOKUP(A8,CVU!$B$54:$I$72,MATCH('COSTO APRÓX.'!B8,CVU!$B$54:$I$54,0),FALSE),IF($E$4="lima - callao",VLOOKUP(A8,CVU!$B$77:$I$95,MATCH('COSTO APRÓX.'!B8,CVU!$B$77:$I$77,0),FALSE))))))+AB8,AA8),0) -> 0 | G8: =IFERROR("*"&IF($E$4="sierra",VLOOKUP(E8,CVU!$B$7:$I$25,MATCH('COSTO APRÓX.'!B8,CVU!$B$7:$I$7,0),FALSE),IF($E$4="selva",VLOOKUP(E8,CVU!$B$29:$I$49,MATCH('COSTO APRÓX.'!B8,CVU!$B$29:$I$29,0),FALSE),IF($E$4="costa",VLOOKUP(E8,CVU!$B$54:$I$72,MATCH('COSTO APRÓX.'!B8,CVU!$B$54:$I$54,0),FALSE),IF($E$4="lima - callao",VLOOKUP(E8,CVU!$B$77:$I$95,MATCH('COSTO APRÓX.'!B8,CVU!$B$77:$I$77,0),FALSE))))),"") | AA8: =IFERROR(IF($E$4="sierra",VLOOKUP(A8,CVU!$B$7:$I$25,MATCH('COSTO APRÓX.'!B8,CVU!$B$7:$I$7,0),FALSE),IF($E$4="selva",VLOOKUP(A8,CVU!$B$29:$I$49,MATCH('COSTO APRÓX.'!B8,CVU!$B$29:$I$29,0),FALSE),IF($E$4="costa",VLOOKUP(A8,CVU!$B$54:$I$72,MATCH('COSTO APRÓX.'!B8,CVU!$B$54:$I$54,0),FALSE),IF($E$4="lima - callao",VLOOKUP(A8,CVU!$B$77:$I$95,MATCH('COSTO APRÓX.'!B8,CVU!$B$77:$I$77,0),FALSE))))),0) -> 0 | AB8: =AA8*5% -> 0
B9: ACABADOS | E9: CATEGORIA | F9: m2
A10: =IFERROR(VLOOKUP(E10,CVU!$E$187:$G$196,3,FALSE),"") | B10: pisos | F10: =IFERROR(IF($E$18>4,(IF($E$4="sierra",VLOOKUP(A10,CVU!$B$7:$I$25,MATCH('COSTO APRÓX.'!B10,CVU!$B$7:$I$7,0),FALSE),IF($E$4="selva",VLOOKUP(A10,CVU!$B$29:$I$49,MATCH('COSTO APRÓX.'!B10,CVU!$B$29:$I$29,0),FALSE),IF($E$4="costa",VLOOKUP(A10,CVU!$B$54:$I$72,MATCH('COSTO APRÓX.'!B10,CVU!$B$54:$I$54,0),FALSE),IF($E$4="lima - callao",VLOOKUP(A10,CVU!$B$77:$I$95,MATCH('COSTO APRÓX.'!B10,CVU!$B$77:$I$77,0),FALSE))))))+AB10,AA10),0) -> 0 | G10: =IFERROR("*"&IF($E$4="sierra",VLOOKUP(E10,CVU!$B$7:$I$25,MATCH('COSTO APRÓX.'!B10,CVU!$B$7:$I$7,0),FALSE),IF($E$4="selva",VLOOKUP(E10,CVU!$B$29:$I$49,MATCH('COSTO APRÓX.'!B10,CVU!$B$29:$I$29,0),FALSE),IF($E$4="costa",VLOOKUP(E10,CVU!$B$54:$I$72,MATCH('COSTO APRÓX.'!B10,CVU!$B$54:$I$54,0),FALSE),IF($E$4="lima - callao",VLOOKUP(E10,CVU!$B$77:$I$95,MATCH('COSTO APRÓX.'!B10,CVU!$B$77:$I$77,0),FALSE))))),"") | AA10: =IFERROR(IF($E$4="sierra",VLOOKUP(A10,CVU!$B$7:$I$25,MATCH('COSTO APRÓX.'!B10,CVU!$B$7:$I$7,0),FALSE),IF($E$4="selva",VLOOKUP(A10,CVU!$B$29:$I$49,MATCH('COSTO APRÓX.'!B10,CVU!$B$29:$I$29,0),FALSE),IF($E$4="costa",VLOOKUP(A10,CVU!$B$54:$I$72,MATCH('COSTO APRÓX.'!B10,CVU!$B$54:$I$54,0),FALSE),IF($E$4="lima - callao",VLOOKUP(A10,CVU!$B$77:$I$95,MATCH('COSTO APRÓX.'!B10,CVU!$B$77:$I$77,0),FALSE))))),0) -> 0 | AB10: =AA10*5% -> 0
A11: =IFERROR(VLOOKUP(E11,CVU!$E$187:$G$196,3,FALSE),"") | B11: puertas y ventanas | F11: =IFERROR(IF($E$18>4,(IF($E$4="sierra",VLOOKUP(A11,CVU!$B$7:$I$25,MATCH('COSTO APRÓX.'!B11,CVU!$B$7:$I$7,0),FALSE),IF($E$4="selva",VLOOKUP(A11,CVU!$B$29:$I$49,MATCH('COSTO APRÓX.'!B11,CVU!$B$29:$I$29,0),FALSE),IF($E$4="costa",VLOOKUP(A11,CVU!$B$54:$I$72,MATCH('COSTO APRÓX.'!B11,CVU!$B$54:$I$54,0),FALSE),IF($E$4="lima - callao",VLOOKUP(A11,CVU!$B$77:$I$95,MATCH('COSTO APRÓX.'!B11,CVU!$B$77:$I$77,0),FALSE))))))+AB11,AA11),0) -> 0 | G11: =IFERROR("*"&IF($E$4="sierra",VLOOKUP(E11,CVU!$B$7:$I$25,MATCH('COSTO APRÓX.'!B11,CVU!$B$7:$I$7,0),FALSE),IF($E$4="selva",VLOOKUP(E11,CVU!$B$29:$I$49,MATCH('COSTO APRÓX.'!B11,CVU!$B$29:$I$29,0),FALSE),IF($E$4="costa",VLOOKUP(E11,CVU!$B$54:$I$72,MATCH('COSTO APRÓX.'!B11,CVU!$B$54:$I$54,0),FALSE),IF($E$4="lima - callao",VLOOKUP(E11,CVU!$B$77:$I$95,MATCH('COSTO APRÓX.'!B11,CVU!$B$77:$I$77,0),FALSE))))),"") | AA11: =IFERROR(IF($E$4="sierra",VLOOKUP(A11,CVU!$B$7:$I$25,MATCH('COSTO APRÓX.'!B11,CVU!$B$7:$I$7,0),FALSE),IF($E$4="selva",VLOOKUP(A11,CVU!$B$29:$I$49,MATCH('COSTO APRÓX.'!B11,CVU!$B$29:$I$29,0),FALSE),IF($E$4="costa",VLOOKUP(A11,CVU!$B$54:$I$72,MATCH('COSTO APRÓX.'!B11,CVU!$B$54:$I$54,0),FALSE),IF($E$4="lima - callao",VLOOKUP(A11,CVU!$B$77:$I$95,MATCH('COSTO APRÓX.'!B11,CVU!$B$77:$I$77,0),FALSE))))),0) -> 0 | AB11: =AA11*5% -> 0
A12: =IFERROR(VLOOKUP(E12,CVU!$E$187:$G$196,3,FALSE),"") | B12: revestimientos | F12: =IFERROR(IF($E$18>4,(IF($E$4="sierra",VLOOKUP(A12,CVU!$B$7:$I$25,MATCH('COSTO APRÓX.'!B12,CVU!$B$7:$I$7,0),FALSE),IF($E$4="selva",VLOOKUP(A12,CVU!$B$29:$I$49,MATCH('COSTO APRÓX.'!B12,CVU!$B$29:$I$29,0),FALSE),IF($E$4="costa",VLOOKUP(A12,CVU!$B$54:$I$72,MATCH('COSTO APRÓX.'!B12,CVU!$B$54:$I$54,0),FALSE),IF($E$4="lima - callao",VLOOKUP(A12,CVU!$B$77:$I$95,MATCH('COSTO APRÓX.'!B12,CVU!$B$77:$I$77,0),FALSE))))))+AB12,AA12),0) -> 0 | G12: =IFERROR("*"&IF($E$4="sierra",VLOOKUP(E12,CVU!$B$7:$I$25,MATCH('COSTO APRÓX.'!B12,CVU!$B$7:$I$7,0),FALSE),IF($E$4="selva",VLOOKUP(E12,CVU!$B$29:$I$49,MATCH('COSTO APRÓX.'!B12,CVU!$B$29:$I$29,0),FALSE),IF($E$4="costa",VLOOKUP(E12,CVU!$B$54:$I$72,MATCH('COSTO APRÓX.'!B12,CVU!$B$54:$I$54,0),FALSE),IF($E$4="lima - callao",VLOOKUP(E12,CVU!$B$77:$I$95,MATCH('COSTO APRÓX.'!B12,CVU!$B$77:$I$77,0),FALSE))))),"") | AA12: =IFERROR(IF($E$4="sierra",VLOOKUP(A12,CVU!$B$7:$I$25,MATCH('COSTO APRÓX.'!B12,CVU!$B$7:$I$7,0),FALSE),IF($E$4="selva",VLOOKUP(A12,CVU!$B$29:$I$49,MATCH('COSTO APRÓX.'!B12,CVU!$B$29:$I$29,0),FALSE),IF($E$4="costa",VLOOKUP(A12,CVU!$B$54:$I$72,MATCH('COSTO APRÓX.'!B12,CVU!$B$54:$I$54,0),FALSE),IF($E$4="lima - callao",VLOOKUP(A12,CVU!$B$77:$I$95,MATCH('COSTO APRÓX.'!B12,CVU!$B$77:$I$77,0),FALSE))))),0) -> 0 | AB12: =AA12*5% -> 0
A13: =IFERROR(VLOOKUP(E13,CVU!$E$187:$G$196,3,FALSE),"") | B13: baños | F13: =IFERROR(IF($E$18>4,(IF($E$4="sierra",VLOOKUP(A13,CVU!$B$7:$I$25,MATCH('COSTO APRÓX.'!B13,CVU!$B$7:$I$7,0),FALSE),IF($E$4="selva",VLOOKUP(A13,CVU!$B$29:$I$49,MATCH('COSTO APRÓX.'!B13,CVU!$B$29:$I$29,0),FALSE),IF($E$4="costa",VLOOKUP(A13,CVU!$B$54:$I$72,MATCH('COSTO APRÓX.'!B13,CVU!$B$54:$I$54,0),FALSE),IF($E$4="lima - callao",VLOOKUP(A13,CVU!$B$77:$I$95,MATCH('COSTO APRÓX.'!B13,CVU!$B$77:$I$77,0),FALSE))))))+AB13,AA13),0) -> 0 | G13: =IFERROR("*"&IF($E$4="sierra",VLOOKUP(E13,CVU!$B$7:$I$25,MATCH('COSTO APRÓX.'!B13,CVU!$B$7:$I$7,0),FALSE),IF($E$4="selva",VLOOKUP(E13,CVU!$B$29:$I$49,MATCH('COSTO APRÓX.'!B13,CVU!$B$29:$I$29,0),FALSE),IF($E$4="costa",VLOOKUP(E13,CVU!$B$54:$I$72,MATCH('COSTO APRÓX.'!B13,CVU!$B$54:$I$54,0),FALSE),IF($E$4="lima - callao",VLOOKUP(E13,CVU!$B$77:$I$95,MATCH('COSTO APRÓX.'!B13,CVU!$B$77:$I$77,0),FALSE))))),"") | AA13: =IFERROR(IF($E$4="sierra",VLOOKUP(A13,CVU!$B$7:$I$25,MATCH('COSTO APRÓX.'!B13,CVU!$B$7:$I$7,0),FALSE),IF($E$4="selva",VLOOKUP(A13,CVU!$B$29:$I$49,MATCH('COSTO APRÓX.'!B13,CVU!$B$29:$I$29,0),FALSE),IF($E$4="costa",VLOOKUP(A13,CVU!$B$54:$I$72,MATCH('COSTO APRÓX.'!B13,CVU!$B$54:$I$54,0),FALSE),IF($E$4="lima - callao",VLOOKUP(A13,CVU!$B$77:$I$95,MATCH('COSTO APRÓX.'!B13,CVU!$B$77:$I$77,0),FALSE))))),0) -> 0 | AB13: =AA13*5% -> 0
B14: INSTALACIONES | E14: CATEGORIA | F14: m2
A15: =IFERROR(VLOOKUP(E15,CVU!$E$187:$G$196,3,FALSE),"") | B15: eléctricas y sanitarias | F15: =IFERROR(IF($E$18>4,(IF($E$4="sierra",VLOOKUP(A15,CVU!$B$7:$I$25,MATCH('COSTO APRÓX.'!B15,CVU!$B$7:$I$7,0),FALSE),IF($E$4="selva",VLOOKUP(A15,CVU!$B$29:$I$49,MATCH('COSTO APRÓX.'!B15,CVU!$B$29:$I$29,0),FALSE),IF($E$4="costa",VLOOKUP(A15,CVU!$B$54:$I$72,MATCH('COSTO APRÓX.'!B15,CVU!$B$54:$I$54,0),FALSE),IF($E$4="lima - callao",VLOOKUP(A15,CVU!$B$77:$I$95,MATCH('COSTO APRÓX.'!B15,CVU!$B$77:$I$77,0),FALSE))))))+AB15,AA15),0) -> 0 | G15: =IFERROR("*"&IF($E$4="sierra",VLOOKUP(E15,CVU!$B$7:$I$25,MATCH('COSTO APRÓX.'!B15,CVU!$B$7:$I$7,0),FALSE),IF($E$4="selva",VLOOKUP(E15,CVU!$B$29:$I$49,MATCH('COSTO APRÓX.'!B15,CVU!$B$29:$I$29,0),FALSE),IF($E$4="costa",VLOOKUP(E15,CVU!$B$54:$I$72,MATCH('COSTO APRÓX.'!B15,CVU!$B$54:$I$54,0),FALSE),IF($E$4="lima - callao",VLOOKUP(E15,CVU!$B$77:$I$95,MATCH('COSTO APRÓX.'!B15,CVU!$B$77:$I$77,0),FALSE))))),"") | AA15: =IFERROR(IF($E$4="sierra",VLOOKUP(A15,CVU!$B$7:$I$25,MATCH('COSTO APRÓX.'!B15,CVU!$B$7:$I$7,0),FALSE),IF($E$4="selva",VLOOKUP(A15,CVU!$B$29:$I$49,MATCH('COSTO APRÓX.'!B15,CVU!$B$29:$I$29,0),FALSE),IF($E$4="costa",VLOOKUP(A15,CVU!$B$54:$I$72,MATCH('COSTO APRÓX.'!B15,CVU!$B$54:$I$54,0),FALSE),IF($E$4="lima - callao",VLOOKUP(A15,CVU!$B$77:$I$95,MATCH('COSTO APRÓX.'!B15,CVU!$B$77:$I$77,0),FALSE))))),0) -> 0 | AB15: =AA15*5% -> 0
F16: =SUM(F7:F15) -> 0 | G16: soles/m2
B18: N PISOS
B19: ÁREA DE TERRENO | F19: m2
B20: ÁREA LIBRE 30% | E20: =E19*30% -> 0 | F20: m2
B21: ÁREA TECHADO | E21: =+(E19-E20)*E18 -> 0 | F21: m2
B23: COSTO APROX. | E23: =IFERROR(E21*F16,0) -> 0
B24: COSTO MÍNIMO -25% | E24: =E23+E23*F24 -> 0 | F24: -0.25
B25: COSTO MÁXIMO +75% | E25: =E23+E23*F25 -> 0 | F25: 0.75

Sheet CVU
A1: Copyright © Heb MERMA - Todos los derechos reservados
B3: NOTA: | C3: Actualizar los costos cada mes a travez del siguiente link: | F3: https://cap.org.pe/valores-unitarios-oficiales-de-edificaciones/
B5: VALORES POR PARTIDAS EN SOLES POR METRO CUADRADO DE ÁREA TECHADA - SIERRA
B6: 1 | C6: ESTRUCTURAS | E6: ACABADOS | I6: INSTALACIONES
B7: CATEGORIA | C7: MUROS Y COLUMNAS | D7: TECHOS | E7: PISOS | F7: PUERTAS Y VENTANAS | G7: REVESTIMIENTOS | H7: BAÑOS | I7: ELÉCTRICAS Y SANITARIAS
B8: A | C8: ESTRUCTURAS LAMINARES CURVADAS DE CONCRETO ARMADO QUE INCLUYEN EN UNA SOLA ARMADURA LA CIMENTACIÓN Y EL TECHO, PARA ESTE CASO NO SE CONSIDERA LOS VALORES DE LA COLUMNA N°2. | D8: LOSA ALIGERADO DE CONCRETO ARMADO CON LUCES LIBRES MAYORES A 6m. MEDIDA ENTRE CARA DE LOS APOYOS Y SOBRECARGAMAYOR A 300kg/M2. (8) | E8: MÁRMOL IMPORTADO, PIEDRAS NATURALES IMPORTADAS, PORCELANATO. | F8: ALUMINIO PESADO CON PERFILES ESPECIALES, MADERA FINA ORNAMENTAL (CAOBA, CEDRO O PINO SELECTO) VIDRIO INSULADO. (1) | G8: MÁRMOL IMPORTADO, MADERA FINA (CAOBA O SIMILAR) BALDOSA ACÚSTICA EN TECHO O SIMILAR. | H8: BAÑOS COMPLETOS (7) DE LUJO IMPORTADO CON ANCHAPE FINO (MÁRMOL O SIMILAR). | I8: AIRE ACONDICIONADO, ILUMINACIÓN ESPECIAL, VENTILACIÓN FORZADA, SIST. HIDRONEUMÁTICO, AGUA CALIENTE Y FRÍA, INTERCOMUNICADOR, ALARMAS, ASCENSOR, SISTEMA BOMBEO DE AGUA Y DESAGUE (5), TELÉFONO.
B9: costo (A) | C9: 749.53 | D9: 389.73 | E9: 276.53 | F9: 295.82 | G9: 373.29 | H9: 132.4 | I9: 471.78
B10: B | C10: COLUMNAS, VIGAS Y/O PLACAS DE CONCRETO ARMADO Y/O METÁLICAS | D10: ALIGERADOS O LOSAS DE CONCRETO ARMADO INCLINADAS | E10: MÁMOL NACIONAL O RECONSTITUIDO, PARQUET FINO (OLIVO, CHONTA O SIMILAR), CERÁMICA IMPORTADA, MADERA FINA. | F10: ALUMINIO O MADERA FINA (CAOBA O SIMILAR) DE DISEÑO ESPECIAL, VIDRIO TRATADO POLARIZADO (2) Y CURVADO, LAMINADO O TEMPLADO. | G10: MÁRMOL NACIONAL, MADERA FINA (CAOBA O SIMILAR) ENCHAPES EN TECHOS | H10: BAÑOS COMPLETOS (7) IMPORTADOS CON MAYÓLICA O CERÁMICO DECORATIVO IMPORTADO. | I10: SISTEMA DE BOMBEO DE AGUA POTABLE, ASCENSOR, TELÉFONO, AGUA CALIENTE Y FRÍA.
B11: costo (B) | C11: 445.92 | D11: 267.95 | E11: 230.59 | F11: 261.78 | G11: 298.15 | H11: 94.57 | I11: 277.49
B12: C | C12: PLACAS DE CONCRETO (E= 10 A 15 cm), ALBAÑILERÍA ARMADA, LADRILLO O SIMILAR CON COLUMNAS Y VIGAS DE AMARRE DE CONCRETO ARMADO. | D12: ALIGERADO O LOSAS DE CONCRETO ARMADO HORIZONTALES. | E12: MADERA FINA MACHIHEMBRADA, TERRAZO. | F12: ALUMINIO O MADERA FINA (CAOBA O SIMILAR), VIDRIO TRATADO POLARIZADO (2), LAMINADO O TEMPLADO. | G12: SUPERFICIE CARAVISTA OBTENIDA MEDIANTE ENCOFRADO ESPECIAL, ENCHAPE EN TECHOS. | H12: BAÑOS COMPLETOS (7) NACIONALES CON MAYÓLICA O CERÁMICO NACIONAL DE COLOR. | I12: SISTEMA DE BOMBEO DE AGUA POTABLE, TELÉFONO, AGUA CALIENTE Y FRÍA.
B13: costo (C) | C13: 323.53 | D13: 187.5 | E13: 149.22 | F13: 191 | G13: 246.76 | H13: 61.75 | I13: 206.48
B14: D | C14: LADRILLO O SIMILAR SIN ELEMENTOS DE CONCRETO ARMADO, DRYWALL O SIMILAR ICLUYE TECHO (6) | D14: CALAMINA METÁLICA, FIBROCEMENTO SOBRE VIGUERÍA METÁLICA. BAMBÚ | E14: PARQUET DE 1ra. LAJAS, CERÁMICA NACIONAL, LOSETA VENECIANA 40x40, PISO LAMINADO. | F14: VENTANAS DE ALUMINIO PUERTAS DE MADERA SELECTA, VIDRIO TRATADO TRANSPARENTE. (3) | G14: ENCHAPE DE MADERA O LAMINADOS. PIEDRA O MATERIAL VITRIFICADO. | H14: BAÑOS COMPLETOS (7) NACIONALES BLANCOS CON MAYÓLICA BLANCA. | I14: AGUA FRÍA. AGUA CALIENTE, CORRIENTE TRIFÁSICA, TELÉFONO.
B15: costo (D) | C15: 298.83 | D15: 141.9 | E15: 122.35 | F15: 112.03 | G15: 188.75 | H15: 37.78 | I15: 117
B16: E | C16: ADOBE, TAPIAL O QUINCHA, BAMBÚ ESTRUCTURAL | D16: MADERA CON MATERIAL IMPERMEABILIZANTE POLICARBONATO. | E16: PARQUET DE 2da. LOSETA VENECIANA 30x30 LAJAS DE CEMENTO CON CANTO RODADO. | F16: VENTANAS DE FIERRO, PUERTAS DE MADERA SELECTA (CAOBA O SIMILAR), VIDRIO SIMPLE TRANSPARENTE. | G16: SUPERFICIE DE LADRILLO CARAVISTA. | H16: BAÑOS CON MAYÓLICA BLANCA. PARCIAL | I16: AGUA FRÍA. AGUA CALIENTE, CORRIENTE MONOIFÁSICA, TELÉFONO.
B17: costo (E) | C17: 234.59 | D17: 58.27 | E17: 101.19 | F17: 85.57 | G17: 157.03 | H17: 18.52 | I17: 65.11
B18: F | C18: MADERA (ESTORAQUE, PUMAQUIRO, HUAYRURO, MACHINGA, CATAHUA AMARILLA, COPAIBA, DIABLO FUERTE, TORNILLO O SIMILARES) DRYWALL O SIMILAR (SIN TECHO). | D18: CALAMINA METÁLICA, FIBROCEMENTO O TEJA SOBRE VIGUERÍA DE MADERA CORRIENTE. | E18: LOSETA CORRIENTE, CANTO RODADO. ALFOMBRA | F18: VENTANAS DE FIERRO O ALUMINIO INDUSTRIAL, PUERTAS CONTRAPLACADAS DE MADERA (CEDRO O SIMILAR), PUERTAS MATERIAL MDF o HDF, VIDRIO SIMPLE TRANSPARENTE (4). | G18: TARRAJEO FROTACHADO Y/O YESO MOLDURADO. PINTURA LAVABLE. | H18: BAÑOS BLANCOS SIN MAYÓLICAS. | I18: AGUA FRÍA, CORRIENTE MONOFÁSICA, TELÉFONO.
B19: costo (F) | C19: 146.29 | D19: 46.56 | E19: 82.64 | F19: 66.18 | G19: 93.63 | H19: 15.74 | I19: 42.32
B20: G | C20: PIRCADO CON MEZCLA DE BARRO | D20: SIN TECHO | E20: LOSETA VINÍLICA, CEMENTO BRUÑADO COLOREADO, TAPIZÓN | F20: MADERA CORRIENTE CON MARCOS EN PUERTAS Y VENTANAS DE PVC O MADERA CORRIENTE. | G20: ESTUCADO DE YESO Y/O BARRO, PINTURA AL TEMPLE O AL AGUA. | H20: SANITARIOS BÁSICOS DE LOSA DE 2da. FIERRO FUNDIDO O GRANITO. | I20: AGUA FRÍA, CORRIENTE MONOFÁSICA SIN EMPOTRAR.
B21: costo (G) | C21: 0 | D21: 0 | E21: 61.81 | F21: 38.98 | G21: 69.56 | H21: 10.82 | I21: 24.93
B22: H | E22: CEMENTO PULIDO, LADRILLO CORRIENTE, ENTABLADO CORRIENTE. | F22: MADERA RÚSTICA | G22: PINTADO EN LADRILLO RÚSTICO, PLACA DE CONCRETO O SIMILAR. | H22: SIN APARATOS SANITARIOS | I22: SIN INSTALACIONES ELÉCTRICAS NI SANITARIA
B23: costo (H) | C23: 0 | D23: 0 | E23: 33.39 | F23: 19.5 | G23: 27.83 | H23: 0 | I23: 0
B24: I | E24: TIERRA COMPACTADA | F24: SIN PUERTAS NI VENTANAS | G24: SIN REVESTIMIENTO EN LADRILLO, ADOBE O SIMILAR
B25: costo (I) | C25: 0 | D25: 0 | E25: 7.34 | F25: 0 | G25: 0 | H25: 0 | I25: 0
B27: VALORES POR PARTIDAS EN SOLES POR METRO CUADRADO DE ÁREA TECHADA - SELVA
B28: 2 | C28: ESTRUCTURAS | E28: ACABADOS | I28: INSTALACIONES
B29: CATEGORIA | C29: MUROS Y COLUMNAS | D29: TECHOS | E29: PISOS | F29: PUERTAS Y VENTANAS | G29: REVESTIMIENTOS | H29: BAÑOS | I29: ELÉCTRICAS Y SANITARIAS
B30: A | C30: ESTRUCTURAS LAMINARES CURVADAS DE CONCRETO ARMADO QUE INCLUYEN EN UNA SOLA ARMADURA LA CIMENTACIÓN Y EL TECHO, PARA ESTE CASO NO SE CONSIDERA LOS VALORES DE LA COLUMNA N°2. | D30: LOSA ALIGERADO DE CONCRETO ARMADO CON LUCES LIBRES MAYORES A 6m. MEDIDA ENTRE CARA DE LOS APOYOS Y SOBRECARGA MAYOR A 300 kg/m2. (9) | E30: MÁRMOL IMPORTADO, PIEDRAS NATURALES IMPORTADAS, PORCELANATO. | F30: ALUMINIO PESADO CON PERFILES ESPECIALES, MADERA FINA ORNAMENTAL (CAOBA, CEDRO O PINO SELECTO) VIDRIO INSULADO. (1) | G30: MÁRMOL IMPORTADO, MADERA FINA (CAOBA O SIMILAR) BALDOSA ACÚSTICA EN TECHO O SIMILAR. | H30: BAÑOS COMPLETOS (8) DE LUJO IMPORTADO CON ANCHAPE FINO (MÁRMOL O SIMILAR). | I30: AIRE ACONDICIONADO, ILUMINACIÓN ESPECIAL, VENTILACIÓN FORZADA, SIST. HIDRONEUMÁTICO, AGUA CALIENTE Y FRÍA, INTERCOMUNICADOR, ALARMAS, ASCENSOR, SISTEMA BOMBEO DE AGUA Y DESAGUE (5), TELÉFONO.
B31: costo (A) | C31: 785.11 | D31: 402.07 | E31: 490.1 | F31: 332.59 | G31: 394.37 | H31: 143.9 | I31: 486.4
B32: B | C32: COLUMNAS, VIGAS Y/O PLACAS DE CONCRETO ARMADO Y/O METÁLICAS | D32: ALIGERADOS O LOSAS DE CONCRETO ARMADO INCLINADAS | E32: MÁMOL NACIONAL O RECONSTITUIDO, PARQUET FINO (OLIVO, CHONTA O SIMILAR), CERÁMICA IMPORTADA, MADERA FINA. | F32: ALUMINIO O MADERA FINA (CAOBA O SIMILAR) DE DISEÑO ESPECIAL, VIDRIO TRATADO POLARIZADO (2) Y CURVADO, LAMINADO O TEMPLADO. | G32: MÁRMOL NACIONAL, MADERA FINA (CAOBA O SIMILAR) ENCHAPES EN TECHOS | H32: BAÑOS COMPLETOS (8) IMPORTADOS CON MAYÓLICA O CERÁMICO DECORATIVO IMPORTADO. | I32: SISTEMA DE BOMBEO DE AGUA POTABLE, ASCENSOR, TELÉFONO, AGUA CALIENTE Y FRÍA.
B33: costo (B) | C33: 535.66 | D33: 284.02 | E33: 234.88 | F33: 263.81 | G33: 271.82 | H33: 102.26 | I33: 291.38
B34: C | C34: PLACAS DE CONCRETO (E= 10 A 15 cm), ALBAÑILERÍA ARMADA, LADRILLO O SIMILAR CON COLUMNAS Y VIGAS DE AMARRE DE CONCRETO ARMADO. | D34: ALIGERADO O LOSAS DE CONCRETO ARMADO HORIZONTALES. | E34: MADERA FINA MACHIHEMBRADA, TERRAZO. | F34: ALUMINIO O MADERA FINA (CAOBA O SIMILAR), VIDRIO TRATADO POLARIZADO (2), LAMINADO O TEMPLADO. | G34: SUPERFICIE CARAVISTA OBTENIDA MEDIANTE ENCOFRADO ESPECIAL, ENCHAPE EN TECHOS. | H34: BAÑOS COMPLETOS (8) NACIONALES CON MAYÓLICA O CERÁMICO NACIONAL DE COLOR. | I34: SISTEMA DE BOMBEO DE AGUA POTABLE, TELÉFONO, AGUA CALIENTE Y FRÍA.
B35: costo (C) | C35: 395.66 | D35: 214.29 | E35: 154.13 | F35: 200.99 | G35: 231.87 | H35: 72.15 | I35: 212.44
B36: D | C36: LADRILLO O SIMILAR, DRYWALL O SIMILAR ICLUYE TECHO (7) | D36: CALAMINA METÁLICA, FIBROCEMENTO SOBRE VIGUERÍA METÁLICA. | E36: PARQUET DE 1ra. LAJAS, CERÁMICA NACIONAL, LOSETA VENECIANA 40x40, PISO LAMINADO. | F36: VENTANAS DE ALUMINIO PUERTAS DE MADERA SELECTA, VIDRIO TRATADO TRANSPARENTE. (3) | G36: ENCHAPE DE MADERA O LAMINADOS. PIEDRA O MATERIAL VITRIFICADO. | H36: BAÑOS COMPLETOS (8) NACIONALES BLANCOS CON MAYÓLICA BLANCA. | I36: AGUA FRÍA. AGUA CALIENTE, CORRIENTE TRIFÁSICA, TELÉFONO.
B37: costo (D) | C37: 305.92 | D37: 186.82 | E37: 130.67 | F37: 134.72 | G37: 167.56 | H37: 48.92 | I37: 118.14
B38: E | C38: MADERA SELECTA TRATADA (6) SOBRE PILOTAJE DE MADERA CON BASE DE CONCRETO CON MUROS DE MADERA CONTRAPLACADA O SIMILAR | D38: MADERA SELECTA TRATADA (6) CON MATERIAL IMPERMEABILIZANTE BAMBÚ | E38: PARQUET DE 2da. LOSETA VENECIANA 30x30 LAJAS DE CEMENTO CON CANTO RODADO. | F38: VENTANAS DE FIERRO, PUERTAS DE MADERA SELECTA (CAOBA O SIMILAR), VIDRIO SIMPLE TRANSPARENTE (4). | G38: SUPERFICIE DE LADRILLO CARAVISTA. | H38: BAÑOS CON MAYÓLICA BLANCA. PARCIAL | I38: AGUA FRÍA. AGUA CALIENTE, CORRIENTE MONOIFÁSICA, TELÉFONO.
B39: costo (E) | C39: 242.91 | D39: 136.03 | E39: 105.43 | F39: 87.48 | G39: 127.04 | H39: 24.28 | I39: 79.88
B40: F | C40: ADOBE O SIMILAR BAMBÚ ESTRUCTURAL | D40: CALAMINA METÁLICA, FIBROCEMENTO O TEJA SOBRE TIJERALES DE MADERA POLICARBONATO. | E40: LOSETA CORRIENTE, CANTO RODADO. ALFOMBRA | F40: VENTANAS DE FIERRO O ALUMINIO INDUSTRIAL, PUERTAS CONTRAPLACADAS DE MADERA (CEDRO O SIMILAR), PUERTAS MATERIAL MDF o HDF, VIDRIO SIMPLE TRANSPARENTE (4). | G40: TARRAJEO FROTACHADO Y/O YESO MOLDURADO. PINTURA LAVABLE O BARNIZADO SOBRE MADERA. | H40: BAÑOS BLANCOS SIN MAYÓLICAS. | I40: AGUA FRÍA, CORRIENTE MONOFÁSICA, TELÉFONO.
B41: costo (F) | C41: 191.55 | D41: 62.55 | E41: 85.85 | F41: 71.35 | G41: 98.22 | H41: 20.64 | I41: 44.11
B42: G | C42: MADERA TRATADA (6) SELECTA CON BASE DE CONCRETO CON MUROS DE MADERA TIPO CONTRAPLACADO O SIMILAR DRYWALLO SIMILAR (SIN TECHO) | D42: TECHOS DE PALMAS (CRISNEJAS) | E42: LOSETA VINÍLICA, CEMENTO BRUÑADO COLOREADO, TAPIZÓN | F42: MADERA CORRIENTE CON MARCOS EN PUERTAS Y VENTANAS DE PVC O MADERA CORRIENTE. | G42: ESTUCADO DE YESO Y/O BARRO, PINTURA AL TEMPLE O AL AGUA. | H42: SANITARIOS BÁSICOS DE LOSA DE 2da. FIERRO FUNDIDO O GRANITO. | I42: AGUA FRÍA, CORRIENTE MONOFÁSICA SIN EMPOTRAR.
B43: costo (G) | C43: 165.92 | D43: 49.21 | E43: 70.98 | F43: 42.1 | G43: 82.09 | H43: 14.21 | I43: 26.03
B44: H | C44: MADERA CORRIENTE | D44: SIN TECHO | E44: CEMENTO PULIDO, LADRILLO CORRIENTE, ENTABLADO CORRIENTE. | F44: MADERA RÚSTICA | G44: PINTADO EN LADRILLO RÚSTICO, PLACA DE CONCRETO O SIMILAR. | H44: SIN APARATOS SANITARIOS | I44: SIN INSTALACIONES ELÉCTRICAS NI SANITARIA
B45: costo (H) | C45: 82.96 | D45: 0 | E45: 27.32 | F45: 21.05 | G45: 32.83 | H45: 0 | I45: 0
B46: I | C46: MADERA RÚSTICA | E46: TIERRA COMPACTADA | F46: SIN PUERTAS NI VENTANAS | G46: SIN REVESTIMIENTO EN LADRILLO, ADOBE O SIMILAR
B47: costo (I) | C47: 33.19 | D47: 0 | E47: 6 | F47: 0 | G47: 0 | H47: 0 | I47: 0
B48: J | C48: CAÑA GUAYAQUIL, PONA O PINTOC
B49: costo (J) | C49: 13.27 | D49: 0 | E49: 0 | F49: 0 | G49: 0 | H49: 0 | I49: 0
B52: VALORES POR PARTIDAS EN SOLES POR METRO CUADRADO DE ÁREA TECHADA - COSTA
B53: 3 | C53: ESTRUCTURAS | E53: ACABADOS | I53: INSTALACIONES
B54: CATEGORIA | C54: MUROS Y COLUMNAS | D54: TECHOS | E54: PISOS | F54: PUERTAS Y VENTANAS | G54: REVESTIMIENTOS | H54: BAÑOS | I54: ELÉCTRICAS Y SANITARIAS
B55: A | C55: ESTRUCTURAS LAMINARES CURVADAS DE CONCRETO ARMADO QUE INCLUYEN EN UNA SOLA ARMADURA LA CIMENTACIÓN Y EL TECHO, PARA ESTE CASO NO SE CONSIDERA LOS VALORES DE LA COLUMNA N°2. | D55: LOSA ALIGERADO DE CONCRETO ARMADO CON LUCES LIBRES MAYORES A 6m. MEDIDA ENTRE CARA DE LOS APOYOS Y SOBRECARGAMAYOR A 300kg/M2. (8) | E55: MÁRMOL IMPORTADO, PIEDRAS NATURALES IMPORTADAS, PORCELANATO. | F55: ALUMINIO PESADO CON PERFILES ESPECIALES, MADERA FINA ORNAMENTAL (CAOBA, CEDRO O PINO SELECTO) VIDRIO INSULADO. (1) | G55: MÁRMOL IMPORTADO, MADERA FINA (CAOBA O SIMILAR) BALDOSA ACÚSTICA EN TECHO O SIMILAR. | H55: BAÑOS COMPLETOS (7) DE LUJO IMPORTADO CON ANCHAPE FINO (MÁRMOL O SIMILAR). | I55: AIRE ACONDICIONADO, ILUMINACIÓN ESPECIAL, VENTILACIÓN FORZADA, SIST. HIDRONEUMÁTICO, AGUA CALIENTE Y FRÍA, INTERCOMUNICADOR, ALARMAS, ASCENSOR, SISTEMA BOMBEO DE AGUA Y DESAGUE (5), TELÉFONO.
B56: costo (A) | C56: 672.86 | D56: 408.67 | E56: 360.9 | F56: 365.16 | G56: 393.59 | H56: 132.81 | I56: 383.27
B57: B | C57: COLUMNAS, VIGAS Y/O PLACAS DE CONCRETO ARMADO Y/O METÁLICAS | D57: ALIGERADOS O LOSAS DE CONCRETO ARMADO INCLINADAS | E57: MÁMOL NACIONAL O RECONSTITUIDO, PARQUET FINO (OLIVO, CHONTA O SIMILAR), CERÁMICA IMPORTADA, MADERA FINA. | F57: ALUMINIO O MADERA FINA (CAOBA O SIMILAR) DE DISEÑO ESPECIAL, VIDRIO TRATADO POLARIZADO (2) Y CURVADO, LAMINADO O TEMPLADO. | G57: MÁRMOL NACIONAL, MADERA FINA (CAOBA O SIMILAR) ENCHAPES EN TECHOS | H57: BAÑOS COMPLETOS (7) IMPORTADOS CON MAYÓLICA O CERÁMICO DECORATIVO IMPORTADO. | I57: SISTEMA DE BOMBEO DE AGUA POTABLE, ASCENSOR, TELÉFONO, AGUA CALIENTE Y FRÍA.
B58: costo (B) | C58: 433.81 | D58: 266.63 | E58: 216.32 | F58: 192.48 | G58: 298.2 | H58: 100.98 | I58: 277.94
B59: C | C59: PLACAS DE CONCRETO (E= 10 A 15 cm), ALBAÑILERÍA ARMADA, LADRILLO O SIMILAR CON COLUMNAS Y VIGAS DE AMARRE DE CONCRETO ARMADO. | D59: ALIGERADO O LOSAS DE CONCRETO ARMADO HORIZONTALES. | E59: MADERA FINA MACHIHEMBRADA, TERRAZO. | F59: ALUMINIO O MADERA FINA (CAOBA O SIMILAR), VIDRIO TRATADO POLARIZADO (2), LAMINADO O TEMPLADO. | G59: SUPERFICIE CARAVISTA OBTENIDA MEDIANTE ENCOFRADO ESPECIAL, ENCHAPE EN TECHOS. | H59: BAÑOS COMPLETOS (7) NACIONALES CON MAYÓLICA O CERÁMICO NACIONAL DE COLOR. | I59: SISTEMA DE BOMBEO DE AGUA POTABLE, TELÉFONO, AGUA CALIENTE Y FRÍA.
B60: costo (C) | C60: 298.62 | D60: 220.28 | E60: 142.37 | F60: 124.4 | G60: 221.22 | H60: 70.06 | I60: 172.96
B61: D | C61: LADRILLO O SIMILAR SIN ELEMENTOS DE CONCRETO ARMADO, DRYWALL O SIMILAR ICLUYE TECHO (6) | D61: CALAMINA METÁLICA, FIBROCEMENTO SOBRE VIGUERÍA METÁLICA. BAMBÚ | E61: PARQUET DE 1ra. LAJAS, CERÁMICA NACIONAL, LOSETA VENECIANA 40x40, PISO LAMINADO. | F61: VENTANAS DE ALUMINIO PUERTAS DE MADERA SELECTA, VIDRIO TRATADO TRANSPARENTE. (3) | G61: ENCHAPE DE MADERA O LAMINADOS. PIEDRA O MATERIAL VITRIFICADO. | H61: BAÑOS COMPLETOS (7) NACIONALES BLANCOS CON MAYÓLICA BLANCA. | I61: AGUA FRÍA. AGUA CALIENTE, CORRIENTE TRIFÁSICA, TELÉFONO.
B62: costo (D) | C62: 288.78 | D62: 145.88 | E62: 125.59 | F62: 108.97 | G62: 169.73 | H62: 37.38 | I62: 109.48
B63: E | C63: ADOBE, TAPIAL O QUINCHA, BAMBÚ ESTRUCTURAL | D63: MADERA CON MATERIAL IMPERMEABILIZANTE POLICARBONATO. | E63: PARQUET DE 2da. LOSETA VENECIANA 30x30 LAJAS DE CEMENTO CON CANTO RODADO. | F63: VENTANAS DE FIERRO, PUERTAS DE MADERA SELECTA (CAOBA O SIMILAR), VIDRIO SIMPLE TRANSPARENTE (4). | G63: SUPERFICIE DE LADRILLO CARAVISTA. | H63: BAÑOS CON MAYÓLICA BLANCA. PARCIAL | I63: AGUA FRÍA. AGUA CALIENTE, CORRIENTE MONOIFÁSICA, TELÉFONO.
B64: costo (E) | C64: 203.3 | D64: 52.12 | E64: 84.15 | F64: 93.24 | G64: 116.78 | H64: 21.98 | I64: 79.58
B65: F | C65: MADERA (ESTORAQUE, PUMAQUIRO, HUAYRURO, MACHINGA, CATAHUA AMARILLA, COPAIBA, DIABLO FUERTE, TORNILLO O SIMILARES) DRYWALL O SIMILAR (SIN TECHO). | D65: CALAMINA METÁLICA, FIBROCEMENTO O TEJA SOBRE VIGUERÍA DE MADERA CORRIENTE. | E65: LOSETA CORRIENTE, CANTO RODADO. ALFOMBRA | F65: VENTANAS DE FIERRO O ALUMINIO INDUSTRIAL, PUERTAS CONTRAPLACADAS DE MADERA (CEDRO O SIMILAR), PUERTAS MATERIAL MDF o HDF, VIDRIO SIMPLE TRANSPARENTE (4). | G65: TARRAJEO FROTACHADO Y/O YESO MOLDURADO. PINTURA LAVABLE. | H65: BAÑOS BLANCOS SIN MAYÓLICAS. | I65: AGUA FRÍA, CORRIENTE MONOFÁSICA, TELÉFONO.
B66: costo (F) | C66: 153.11 | D66: 28.67 | E66: 57.47 | F66: 69.99 | G66: 82.31 | H66: 16.37 | I66: 43.77
B67: G | C67: PIRCADO CON MEZCLA DE BARRO | D67: MADERA RÚSTICA O CAÑA CON TORTA DE BARRO | E67: LOSETA VINÍLICA, CEMENTO BRUÑADO COLOREADO, TAPIZÓN | F67: MADERA CORRIENTE CON MARCOS EN PUERTAS Y VENTANAS DE PVC O MADERA CORRIENTE. | G67: ESTUCADO DE YESO Y/O BARRO, PINTURA AL TEMPLE O AL AGUA. | H67: SANITARIOS BÁSICOS DE LOSA DE 2da. FIERRO FUNDIDO O GRANITO. | I67: AGUA FRÍA, CORRIENTE MONOFÁSICA SIN EMPOTRAR.
B68: costo (G) | C68: 90.22 | D68: 19.7 | E68: 50.71 | F68: 37.81 | G68: 67.49 | H68: 11.25 | I68: 23.65
B69: H | D69: SIN TECHO | E69: CEMENTO PULIDO, LADRILLO CORRIENTE, ENTABLADO CORRIENTE. | F69: MADERA RÚSTICA | G69: PINTADO EN LADRILLO RÚSTICO, PLACA DE CONCRETO O SIMILAR. | H69: SIN APARATOS SANITARIOS | I69: SIN INSTALACIONES ELÉCTRICAS NI SANITARIA
B70: costo (H) | C70: 0 | D70: 0 | E70: 31.74 | F70: 18.91 | G70: 27 | H70: 0 | I70: 0
B71: I | E71: TIERRA COMPACTADA | F71: SIN PUERTAS NI VENTANAS | G71: SIN REVESTIMIENTO EN LADRILLO, ADOBE O SIMILAR
B72: costo (I) | C72: 0 | D72: 0 | E72: 6.35 | F72: 0 | G72: 0 | H72: 0 | I72: 0
B75: VALORES POR PARTIDAS EN SOLES POR METRO CUADRADO DE ÁREA TECHADA - LIMA Y CALLAO
B76: 4 | C76: ESTRUCTURAS | E76: ACABADOS | I76: INSTALACIONES
B77: CATEGORIA | C77: MUROS Y COLUMNAS | D77: TECHOS | E77: PISOS | F77: PUERTAS Y VENTANAS | G77: REVESTIMIENTOS | H77: BAÑOS | I77: ELÉCTRICAS Y SANITARIAS
B78: A | C78: ESTRUCTURAS LAMINARES CURVADAS DE CONCRETO ARMADO QUE INCLUYEN EN UNA SOLA ARMADURA LA CIMENTACIÓN Y EL TECHO, PARA ESTE CASO NO SE CONSIDERA LOS VALORES DE LA COLUMNA N°2. | D78: LOSA ALIGERADO DE CONCRETO ARMADO CON LUCES LIBRES MAYORES A 6m. MEDIDA ENTRE CARA DE LOS APOYOS Y SOBRECARGAMAYOR A 300kg/M2. (8) | E78: MÁRMOL IMPORTADO, PIEDRAS NATURALES IMPORTADAS, PORCELANATO. | F78: ALUMINIO PESADO CON PERFILES ESPECIALES, MADERA FINA ORNAMENTAL (CAOBA, CEDRO O PINO SELECTO) VIDRIO INSULADO. (1) | G78: MÁRMOL IMPORTADO, MADERA FINA (CAOBA O SIMILAR) BALDOSA ACÚSTICA EN TECHO O SIMILAR. | H78: BAÑOS COMPLETOS (7) DE LUJO IMPORTADO CON ANCHAPE FINO (MÁRMOL O SIMILAR). | I78: AIRE ACONDICIONADO, ILUMINACIÓN ESPECIAL, VENTILACIÓN FORZADA, SIST. HIDRONEUMÁTICO, AGUA CALIENTE Y FRÍA, INTERCOMUNICADOR, ALARMAS, ASCENSOR, SISTEMA BOMBEO DE AGUA Y DESAGUE (5), TELÉFONO.
B79: costo (A) | C79: 682.14 | D79: 414.31 | E79: 365.89 | F79: 370.2 | G79: 399.02 | H79: 134.65 | I79: 395.72
B80: B | C80: COLUMNAS, VIGAS Y/O PLACAS DE CONCRETO ARMADO Y/O METÁLICAS | D80: ALIGERADOS O LOSAS DE CONCRETO ARMADO INCLINADAS | E80: MÁMOL NACIONAL O RECONSTITUIDO, PARQUET FINO (OLIVO, CHONTA O SIMILAR), CERÁMICA IMPORTADA, MADERA FINA. | F80: ALUMINIO O MADERA FINA (CAOBA O SIMILAR) DE DISEÑO ESPECIAL, VIDRIO TRATADO POLARIZADO (2) Y CURVADO, LAMINADO O TEMPLADO. | G80: MÁRMOL NACIONAL, MADERA FINA (CAOBA O SIMILAR) ENCHAPES EN TECHOS | H80: BAÑOS COMPLETOS (7) IMPORTADOS CON MAYÓLICA O CERÁMICO DECORATIVO IMPORTADO. | I80: SISTEMA DE BOMBEO DE AGUA POTABLE (5), ASCENSOR, TELÉFONO, AGUA CALIENTE Y FRÍA, GAS NATURAL.
B81: costo (B) | C81: 439.8 | D81: 270.31 | E81: 219.3 | F81: 195.13 | G81: 302.32 | H81: 102.38 | I81: 288.93
B82: C | C82: PLACAS DE CONCRETO (E= 10 A 15 cm), ALBAÑILERÍA ARMADA, LADRILLO O SIMILAR CON COLUMNAS Y VIGAS DE AMARRE DE CONCRETO ARMADO. | D82: ALIGERADO O LOSAS DE CONCRETO ARMADO HORIZONTALES. | E82: MADERA FINA MACHIHEMBRADA, TERRAZO. | F82: ALUMINIO O MADERA FINA (CAOBA O SIMILAR), VIDRIO TRATADO POLARIZADO (2), LAMINADO O TEMPLADO. | G82: SUPERFICIE CARAVISTA OBTENIDA MEDIANTE ENCOFRADO ESPECIAL, ENCHAPE EN TECHOS. | H82: BAÑOS COMPLETOS (7) NACIONALES CON MAYÓLICA O CERÁMICO NACIONAL DE COLOR. | I82: SISTEMA DE BOMBEO DE AGUA POTABLE (5), TELÉFONO, AGUA CALIENTE Y FRÍA, GAS NATURAL.
B83: costo (C) | C83: 302.75 | D83: 223.31 | E83: 144.34 | F83: 126.13 | G83: 224.27 | H83: 71.02 | I83: 182.27
B84: D | C84: LADRILLO O SIMILAR SIN ELEMENTOS DE CONCRETO ARMADO, DRYWALL O SIMILAR ICLUYE TECHO (6) | D84: CALAMINA METÁLICA, FIBROCEMENTO SOBRE VIGUERÍA METÁLICA. BAMBÚ | E84: PARQUET DE 1ra. LAJAS, CERÁMICA NACIONAL, LOSETA VENECIANA 40x40, PISO LAMINADO. | F84: VENTANAS DE ALUMINIO PUERTAS DE MADERA SELECTA, VIDRIO TRATADO TRANSPARENTE. (3) | G84: ENCHAPE DE MADERA O LAMINADOS. PIEDRA O MATERIAL VITRIFICADO. | H84: BAÑOS COMPLETOS (7) NACIONALES BLANCOS CON MAYÓLICA BLANCA. | I84: AGUA FRÍA. AGUA CALIENTE, CORRIENTE TRIFÁSICA, TELÉFONO, GAS NATURAL.
B85: costo (D) | C85: 292.76 | D85: 147.89 | E85: 127.32 | F85: 110.47 | G85: 172.07 | H85: 37.89 | I85: 115.14
B86: E | C86: ADOBE, TAPIAL O QUINCHA, BAMBÚ ESTRUCTURAL | D86: MADERA CON MATERIAL IMPERMEABILIZANTE POLICARBONATO. | E86: PARQUET DE 2da. LOSETA VENECIANA 30x30 LAJAS DE CEMENTO CON CANTO RODADO. | F86: VENTANAS DE FIERRO, PUERTAS DE MADERA SELECTA (CAOBA O SIMILAR), VIDRIO SIMPLE TRANSPARENTE. | G86: SUPERFICIE DE LADRILLO CARAVISTA. | H86: BAÑOS CON MAYÓLICA BLANCA. PARCIAL | I86: AGUA FRÍA. AGUA CALIENTE, CORRIENTE MONOIFÁSICA, TELÉFONO, GAS NATURAL.
B87: costo (E) | C87: 206.11 | D87: 52.85 | E87: 85.31 | F87: 94.52 | G87: 118.39 | H87: 22.28 | I87: 83.63
B88: F | C88: MADERA (ESTORAQUE, PUMAQUIRO, HUAYRURO, MACHINGA, CATAHUA AMARILLA, COPAIBA, DIABLO FUERTE, TORNILLO O SIMILARES) DRYWALL O SIMILAR (SIN TECHO). | D88: CALAMINA METÁLICA, FIBROCEMENTO O TEJA SOBRE VIGUERÍA DE MADERA CORRIENTE. | E88: LOSETA CORRIENTE, CANTO RODADO. ALFOMBRA | F88: VENTANAS DE FIERRO O ALUMINIO INDUSTRIAL, PUERTAS CONTRAPLACADAS DE MADERA (CEDRO O SIMILAR), PUERTAS MATERIAL MDF o HDF, VIDRIO SIMPLE TRANSPARENTE (4). | G88: TARRAJEO FROTACHADO Y/O YESO MOLDURADO. PINTURA LAVABLE. | H88: BAÑOS BLANCOS SIN MAYÓLICAS. | I88: AGUA FRÍA, CORRIENTE MONOFÁSICA, TELÉFONO, GAS NATURAL.
B89: costo (F) | C89: 155.22 | D89: 29.06 | E89: 58.26 | F89: 70.96 | G89: 83.46 | H89: 16.59 | I89: 47.82
B90: G | C90: PIRCADO CON MEZCLA DE BARRO | D90: MADERA RÚSTICA O CAÑA CON TORTA DE BARRO | E90: LOSETA VINÍLICA, CEMENTO BRUÑADO COLOREADO, TAPIZÓN | F90: MADERA CORRIENTE CON MARCOS EN PUERTAS Y VENTANAS DE PVC O MADERA CORRIENTE. | G90: ESTUCADO DE YESO Y/O BARRO, PINTURA AL TEMPLE O AL AGUA. | H90: SANITARIOS BÁSICOS DE LOSA DE 2da. FIERRO FUNDIDO O GRANITO. | I90: AGUA FRÍA, CORRIENTE MONOFÁSICA, TELÉFONO.
B91: costo (G) | C91: 91.46 | D91: 19.97 | E91: 51.41 | F91: 38.33 | G91: 68.43 | H91: 11.41 | I91: 44.37
B92: H | D92: SIN TECHO | E92: CEMENTO PULIDO, LADRILLO CORRIENTE, ENTABLADO CORRIENTE. | F92: MADERA RÚSTICA | G92: PINTADO EN LADRILLO RÚSTICO, PLACA DE CONCRETO O SIMILAR. | H92: SIN APARATOS SANITARIOS | I92: AGUA FRÍA, CORRIENTE MONOFÁSICA SIN EMPOTRAR.
B93: costo (H) | C93: 0 | D93: 0 | E93: 32.17 | F93: 19.16 | G93: 27.38 | H93: 0 | I93: 23.97
B94: I | E94: TIERRA COMPACTADA | F94: SIN PUERTAS NI VENTANAS | G94: SIN REVESTIMIENTO EN LADRILLO, ADOBE O SIMILAR | I94: SIN INSTALACIÓN ELÉCTRICA NI SANITARIA
B95: costo (I) | C95: 0 | D95: 0 | E95: 6.43 | F95: 0 | G95: 0 | H95: 0 | I95: 0
C97: SIERRA
C98: =C9 -> 749.53 | D98: =D9 -> 389.73 | E98: =E9 -> 276.53 | F98: =F9 -> 295.82 | G98: =G9 -> 373.29 | H98: =H9 -> 132.4 | I98: =I9 -> 471.78
C99: =C11 -> 445.92 | D99: =D11 -> 267.95 | E99: =E11 -> 230.59 | F99: =F11 -> 261.78 | G99: =G11 -> 298.15 | H99: =H11 -> 94.57 | I99: =I11 -> 277.49
C100: =C13 -> 323.53 | D100: =D13 -> 187.5 | E100: =E13 -> 149.22 | F100: =F13 -> 191 | G100: =G13 -> 246.76 | H100: =H13 -> 61.75 | I100: =I13 -> 206.48
C101: =C15 -> 298.83 | D101: =D15 -> 141.9 | E101: =E15 -> 122.35 | F101: =F15 -> 112.03 | G101: =G15 -> 188.75 | H101: =H15 -> 37.78 | I101: =I15 -> 117
C102: =C17 -> 234.59 | D102: =D17 -> 58.27 | E102: =E17 -> 101.19 | F102: =F17 -> 85.57 | G102: =G17 -> 157.03 | H102: =H17 -> 18.52 | I102: =I17 -> 65.11
C103: =C19 -> 146.29 | D103: =D19 -> 46.56 | E103: =E19 -> 82.64 | F103: =F19 -> 66.18 | G103: =G19 -> 93.63 | H103: =H19 -> 15.74 | I103: =I19 -> 42.32
C104: =C21 -> 0 | D104: =D21 -> 0 | E104: =E21 -> 61.81 | F104: =F21 -> 38.98 | G104: =G21 -> 69.56 | H104: =H21 -> 10.82 | I104: =I21 -> 24.93
C105: =C23 -> 0 | D105: =D23 -> 0 | E105: =E23 -> 33.39 | F105: =F23 -> 19.5 | G105: =G23 -> 27.83 | H105: =H23 -> 0 | I105: =I23 -> 0
C106: =C25 -> 0 | D106: =D25 -> 0 | E106: =E25 -> 7.34 | F106: =F25 -> 0 | G106: =G25 -> 0 | H106: =H25 -> 0 | I106: =I25 -> 0
C107: SELVA
C108: =C31 -> 785.11 | D108: =D31 -> 402.07 | E108: =E31 -> 490.1 | F108: =F31 -> 332.59 | G108: =G31 -> 394.37 | H108: =H31 -> 143.9 | I108: =I31 -> 486.4
...
